BEGIN:VCALENDAR
VERSION:2.0
PRODID:icalendar-ruby
CALSCALE:GREGORIAN
METHOD:PUBLISH
BEGIN:VEVENT
DTSTAMP:20260424T141605Z
UID:144-726297@gfcmeriden.org
DTSTART:20260503T150000Z
DTEND:20260503T160000Z
CLASS:PUBLIC
CREATED:20260423T222550
DESCRIPTION:
LAST-MODIFIED:20260423T222550
LOCATION:131 Windsor Ave\, Meriden\, CT 06451
SUMMARY:Sunday Service 
URL;VALUE=URI:https://gfcmeriden.org/events/sunday-service--144/2026-05-03
END:VEVENT
END:VCALENDAR
